BEGIN:VCALENDAR
VERSION:2.0
PRODID:-//RSV-Schleißheim - ECPv6.15.17.1//NONSGML v1.0//EN
CALSCALE:GREGORIAN
METHOD:PUBLISH
X-ORIGINAL-URL:https://rsv-schleissheim.de
X-WR-CALDESC:Veranstaltungen für RSV-Schleißheim
REFRESH-INTERVAL;VALUE=DURATION:PT1H
X-Robots-Tag:noindex
X-PUBLISHED-TTL:PT1H
BEGIN:VTIMEZONE
TZID:Europe/Berlin
BEGIN:DAYLIGHT
TZOFFSETFROM:+0100
TZOFFSETTO:+0200
TZNAME:CEST
DTSTART:20220327T010000
END:DAYLIGHT
BEGIN:STANDARD
TZOFFSETFROM:+0200
TZOFFSETTO:+0100
TZNAME:CET
DTSTART:20221030T010000
END:STANDARD
BEGIN:DAYLIGHT
TZOFFSETFROM:+0100
TZOFFSETTO:+0200
TZNAME:CEST
DTSTART:20230326T010000
END:DAYLIGHT
BEGIN:STANDARD
TZOFFSETFROM:+0200
TZOFFSETTO:+0100
TZNAME:CET
DTSTART:20231029T010000
END:STANDARD
BEGIN:DAYLIGHT
TZOFFSETFROM:+0100
TZOFFSETTO:+0200
TZNAME:CEST
DTSTART:20240331T010000
END:DAYLIGHT
BEGIN:STANDARD
TZOFFSETFROM:+0200
TZOFFSETTO:+0100
TZNAME:CET
DTSTART:20241027T010000
END:STANDARD
END:VTIMEZONE
BEGIN:VEVENT
DTSTART;TZID=Europe/Berlin:20230317T180000
DTEND;TZID=Europe/Berlin:20230317T200000
DTSTAMP:20260420T064216
CREATED:20230116T110018Z
LAST-MODIFIED:20230121T221228Z
UID:5403-1679076000-1679083200@rsv-schleissheim.de
SUMMARY:Starkbierfest - Tag 1
DESCRIPTION:Karten gibt es hier zu kaufen.
URL:https://rsv-schleissheim.de/event/starkbierfest-tag-1/
LOCATION:Bürgerhaus Oberschleißheim\, Theodor-Heuss-Straße 29\, Oberschleißheim\, Bayern\, 85764\, Deutschland
CATEGORIES:Kultur
END:VEVENT
BEGIN:VEVENT
DTSTART;TZID=Europe/Berlin:20230318T180000
DTEND;TZID=Europe/Berlin:20230318T200000
DTSTAMP:20260420T064216
CREATED:20230116T110008Z
LAST-MODIFIED:20230121T221105Z
UID:5405-1679162400-1679169600@rsv-schleissheim.de
SUMMARY:Starkbierfest - Tag 2
DESCRIPTION:Karten gibt es hier zu kaufen.
URL:https://rsv-schleissheim.de/event/starkbierfest-tag-2/
LOCATION:Bürgerhaus Oberschleißheim\, Theodor-Heuss-Straße 29\, Oberschleißheim\, Bayern\, 85764\, Deutschland
CATEGORIES:Kultur
END:VEVENT
END:VCALENDAR